BEGIN:VCALENDAR
VERSION:2.0
PRODID:-//European Digital Cinema Forum - ECPv6.15.20//NONSGML v1.0//EN
CALSCALE:GREGORIAN
METHOD:PUBLISH
X-ORIGINAL-URL:https://edcf.net
X-WR-CALDESC:Events for European Digital Cinema Forum
REFRESH-INTERVAL;VALUE=DURATION:PT1H
X-Robots-Tag:noindex
X-PUBLISHED-TTL:PT1H
BEGIN:VTIMEZONE
TZID:Europe/Paris
BEGIN:DAYLIGHT
TZOFFSETFROM:+0100
TZOFFSETTO:+0200
TZNAME:CEST
DTSTART:20210328T010000
END:DAYLIGHT
BEGIN:STANDARD
TZOFFSETFROM:+0200
TZOFFSETTO:+0100
TZNAME:CET
DTSTART:20211031T010000
END:STANDARD
BEGIN:DAYLIGHT
TZOFFSETFROM:+0100
TZOFFSETTO:+0200
TZNAME:CEST
DTSTART:20220327T010000
END:DAYLIGHT
BEGIN:STANDARD
TZOFFSETFROM:+0200
TZOFFSETTO:+0100
TZNAME:CET
DTSTART:20221030T010000
END:STANDARD
BEGIN:DAYLIGHT
TZOFFSETFROM:+0100
TZOFFSETTO:+0200
TZNAME:CEST
DTSTART:20230326T010000
END:DAYLIGHT
BEGIN:STANDARD
TZOFFSETFROM:+0200
TZOFFSETTO:+0100
TZNAME:CET
DTSTART:20231029T010000
END:STANDARD
END:VTIMEZONE
BEGIN:VEVENT
DTSTART;TZID=Europe/Paris:20220912T100000
DTEND;TZID=Europe/Paris:20220912T113000
DTSTAMP:20260424T090049
CREATED:20220810T182338Z
LAST-MODIFIED:20220810T182338Z
UID:1160-1662976800-1662982200@edcf.net
SUMMARY:IBC | EDCF Seminar - Looking forward to a changing future
DESCRIPTION:Outline: \nThe European Digital Cinema Forum (EDCF) is once again hosting its long standing and much anticipated EDCF Global Cinema Seminar at IBC. As cinema recovers from the pandemic closures\, change has been forced upon an industry that was embracing investment and premium technologies. The Seminar will address the key issues facing the industry in 2022 and beyond\, such as creative Solutions to supply chain issues\, the challenge of sustainability in the film and cinema sectors\, HDR in cinema\, broadening out and delivery of content supply and issues around cybersecurity and content. If you want to tap into the industry’s latest thoughts\, please join us in Amsterdam. \nHosted by the EDCF and including a wide range of high-level Speakers\, the Seminar will take place at 10h00-11h30 on Monday 12 September 2022 in Room E102. The Session will be chaired by David Hancock\, President of the EDCF. \nAttendance is free of charge but registration is required by email to admin@edcf.net. \nProgram \n10:00  Introduction and Cinema recovery summary\nDavid Hancock (Chief Analyst / OMDIA) \n10:10  The Culture Networks – live for Cinema\, culture school and other digital stuff like concerts and theatre \nMats Erixon (Media System Specialist / Norwegian TV-School) \n10:20  Cyber security in cinemas \nCathy Huis in’t veld-Esser (CTO / gofilex) \nBarry de Bruin (CTO Pathé / Netherlands) \n10:30  Recent challenges to the cinema ecosystem \nRadoslav Markow (Researcher / IMI Bulgarian Academy of Science) \n10:40  Event Cinema update \nPatrick von Sychowsky (Editor / Celluloid Junkie \n10:50  Audio Quality in Cinema \nJulian Pinn (Founder / Julian Pinn Ltd) \n11:00  HDR in Cinema \nDr. Tom Bert (Head of Product / Barco) \n11:10  VIVE / Cinity \nPhil Lord (Cinema Sales Manager\, EMEA / Christie Digital) \n11:20  The Future of Professional Commercial Digital Cinema \nAdam MacDonald (European Sales Manager / GDC Technology) \n11:30  End
URL:https://edcf.net/edcf-event/ibc-edcf-seminar-looking-forward-to-a-changing-future/
LOCATION:RAI Amsterdam – Room E105\, Netherlands
END:VEVENT
END:VCALENDAR