BEGIN:VCALENDAR
VERSION:2.0
PRODID:-//European Digital Cinema Forum - ECPv6.15.20//NONSGML v1.0//EN
CALSCALE:GREGORIAN
METHOD:PUBLISH
X-WR-CALNAME:European Digital Cinema Forum
X-ORIGINAL-URL:https://edcf.net
X-WR-CALDESC:Events for European Digital Cinema Forum
REFRESH-INTERVAL;VALUE=DURATION:PT1H
X-Robots-Tag:noindex
X-PUBLISHED-TTL:PT1H
BEGIN:VTIMEZONE
TZID:Europe/Paris
BEGIN:DAYLIGHT
TZOFFSETFROM:+0100
TZOFFSETTO:+0200
TZNAME:CEST
DTSTART:20220327T010000
END:DAYLIGHT
BEGIN:STANDARD
TZOFFSETFROM:+0200
TZOFFSETTO:+0100
TZNAME:CET
DTSTART:20221030T010000
END:STANDARD
BEGIN:DAYLIGHT
TZOFFSETFROM:+0100
TZOFFSETTO:+0200
TZNAME:CEST
DTSTART:20230326T010000
END:DAYLIGHT
BEGIN:STANDARD
TZOFFSETFROM:+0200
TZOFFSETTO:+0100
TZNAME:CET
DTSTART:20231029T010000
END:STANDARD
BEGIN:DAYLIGHT
TZOFFSETFROM:+0100
TZOFFSETTO:+0200
TZNAME:CEST
DTSTART:20240331T010000
END:DAYLIGHT
BEGIN:STANDARD
TZOFFSETFROM:+0200
TZOFFSETTO:+0100
TZNAME:CET
DTSTART:20241027T010000
END:STANDARD
END:VTIMEZONE
BEGIN:VEVENT
DTSTART;VALUE=DATE:20230207
DTEND;VALUE=DATE:20230209
DTSTAMP:20260422T175819
CREATED:20221207T102731Z
LAST-MODIFIED:20230130T135707Z
UID:1258-1675728000-1675900799@edcf.net
SUMMARY:EDCF Annual Conference 2023
DESCRIPTION:Dear EDCF members\, \nThe EDCF Conference on 7th -8th February 2023 at the Cinecittá multiplex cinema in Nuremberg / Germany is the forum for all major industry associations\, organizations and professionals involved in the development of digital cinema in Europe. Cinema operators\, service providers\, manufacturers\, producers\, filmmakers\, researchers and many others are invited to participate. The main objective is to give all associations the opportunity to discuss the technology-related interests of our industry. \nTopics to be covered during the conference\, with panel discussions\, interviews and presentations will include: \n\nTour of Cinecittá facilities\nIndustry updates from EDCF+UNIC and progress reports from other associations\nHow and what new technologies can improve business for all industry players and cinema-goers?\nProgress Report from Germany Digital Cinematography\nA series of short presentations “à la EDCF” in 3-4 presentations of up to 6 minutes (separate call for contribution will follow)\nA panel discussion on “Avatar: The Way of Water\, taking stock / is this the future of film delivery?”\nHR in cinemas and related challenges\nSustainability in film and cinema\nDCI HDR and Direct View additions\n\nThe complete program is listed below. \nProgram\n[Download Program] \n(subject to change) \n\nFEBRUARY 7\, 2023\, TUESDAY\n12.00 – 13.00 \nRegistration and welcome coffee \n13.00 – 14.00\nTour around CINECITTÁ\nPROGRAM MODERATOR: David Hancock \n14.00 – 14.10\nWelcome speech by EDCF President \nCathy Huis in ’t Veld Esser – President EDCF \n14.10 – 14.40\nIndustry update. Joint presentation EDCF+UNIC\nDavid Hancock\, Laura Houlgatte \n14.40 – 15.45\nProgress reports from Associations \n\nISDCF update – Steve LLamb\nICTA trends and developments – Jan Runge\nLIPA update – Tom Bert\nSAWA update – Julian Pinn\nInterview with Steve LLamb on SMPTE standards development\n\nNew Cinema Technology Committee 27C\nPublication process\n\n\n\n15.45 – 16.00\nGreen Deal\, right of repair as a challenge for the digital cinema ecosystem \nRadoslav Markov \nSponsor contribution by Eikona \n16.00 – 16.30\nCoffee Break – sponsored by Eikona   \n16.30 – 17.45\nHow and which new upcoming technologies can improve business for all industry players and moviegoers? – Panel discussion \nModerator: Patrick von Sychowski \n\nBenjamin Dauhrer (Cinecittá)\nWout van der Elst (CinemaNext)\nJan Harmsen (Kinopolis)\nMarc Schütrumpf (Neox film)\nTom Bert (Barco)\n\n17.45 – 18.15 \nProgress report from German Cinema Sector and on Digital Cinematography Developments: \nChristine Berg (HDF Kino) – interviewed by Jan Runge \n19.00\nSponsor contribution by cinionic \nDinner – sponsored by cinionic   \n\n\n  \nFEBRUARY 8\, 2023\, WEDNESDAY\n08.00 – 09.00\nMorning Coffee\, networking\, registration \n09.00 – 09.30\nPresentation from CINECITTA \nPROGRAM MODERATOR: David Hancock \n09.30 – 10.15\nSeries of quickfire soapboxes «à la EDCF»\nshort presentations up to 5 minutes\, followed by a quick Q&A \nModerator: Julian Pinn \n\nStatus on LED in cinemas:\n\nManufacturers view – Tom Bert (Barco)\nIntegrators view – Wout van der Elst (Cinemanext)\n\n\nThe energy efficiency of the new Laser Optical System – Chris Connett (Christie Digital)\nNew clean and appropriate screen for your projector – Bernard Collard (Strong MDI)\n\n10.15 – 11.00\nAvatar: The Way of Water\, what challenges were overcome and lessons\nlearned? – Panel Debate\n Moderator: Patrick von Sychowsky / Julian Pinn \n\nAndreas Stier (Eikona) Renate Scheliga (MACCS/Numero)\nPaul Huis in ’t Veld Esser (Gofilex) Marcus Decke (Gofilex)\nSusanne Flaexl (Cineplexx) Carly Brown (Disney – remote)\n\n11.00 – 11.30\nUNIC: HR in cinemas and related challenges \nTraining tools\, and technical documents that can be used by industry professionals in Europe and globally\nLaura Houlgatte (UNIC) \n11.30 – 12.00\nSponsors contribution by MACCS \nNetworking brunch – sponsored by MACCS.  \n12.00 – 12.45\nSustainability in Film and Cinema\nModerator: David Hancock \n\nBenjamin Dauhrer (Cinecittá) Harry Schusterov (Gofilex)\nTom Bert (Barco) Bas van Heek (cinionic)\n\n12.45 – 14.00\nOpen Session – Open topics – Ideas and Thoughts\nIncluding conclusion wrap-up by EDCF President\nCathy Huis in ’t Veld Esser  and  David Hancock \n14.00 – 15.00\nSponsors contribution by UNIC\nFinal drinks and cocktails – sponsored by UNIC \n \n– THE END \nIf you are interested to participate free of charge pls. contact Juergen Burghardt by email admin@edcf.net providing your full address and contact details. \nThe conference will start at 12:00 CET on February 7th and ends at 15:00 CET on February 8th 2023. \nBest regards\,\nThe EDCF Board
URL:https://edcf.net/edcf-event/edcf-annual-conference-2023/
LOCATION:Cinecitta Neurenberg\, Gewerbemuseumspl. 3\, Berlin\, Nürnberg\, 90403\, Germany
ORGANIZER;CN="J%C3%BCrgen Burghardt":MAILTO:admin@edcf.net
END:VEVENT
END:VCALENDAR