BEGIN:VCALENDAR
VERSION:2.0
PRODID:-//European Digital Cinema Forum - ECPv6.15.20//NONSGML v1.0//EN
CALSCALE:GREGORIAN
METHOD:PUBLISH
X-WR-CALNAME:European Digital Cinema Forum
X-ORIGINAL-URL:https://edcf.net
X-WR-CALDESC:Events for European Digital Cinema Forum
REFRESH-INTERVAL;VALUE=DURATION:PT1H
X-Robots-Tag:noindex
X-PUBLISHED-TTL:PT1H
BEGIN:VTIMEZONE
TZID:Europe/Paris
BEGIN:DAYLIGHT
TZOFFSETFROM:+0100
TZOFFSETTO:+0200
TZNAME:CEST
DTSTART:20220327T010000
END:DAYLIGHT
BEGIN:STANDARD
TZOFFSETFROM:+0200
TZOFFSETTO:+0100
TZNAME:CET
DTSTART:20221030T010000
END:STANDARD
BEGIN:DAYLIGHT
TZOFFSETFROM:+0100
TZOFFSETTO:+0200
TZNAME:CEST
DTSTART:20230326T010000
END:DAYLIGHT
BEGIN:STANDARD
TZOFFSETFROM:+0200
TZOFFSETTO:+0100
TZNAME:CET
DTSTART:20231029T010000
END:STANDARD
BEGIN:DAYLIGHT
TZOFFSETFROM:+0100
TZOFFSETTO:+0200
TZNAME:CEST
DTSTART:20240331T010000
END:DAYLIGHT
BEGIN:STANDARD
TZOFFSETFROM:+0200
TZOFFSETTO:+0100
TZNAME:CET
DTSTART:20241027T010000
END:STANDARD
END:VTIMEZONE
BEGIN:VEVENT
DTSTART;TZID=Europe/Paris:20230917T140000
DTEND;TZID=Europe/Paris:20230917T170000
DTSTAMP:20260422T050043
CREATED:20230813T210053Z
LAST-MODIFIED:20230911T074733Z
UID:1495-1694959200-1694970000@edcf.net
SUMMARY:EDCF Seminar at IBC 2023
DESCRIPTION:September 17th – time: 14:00 CET\nRoom: E105 – rai Conference Center / Amsterdam\nNumber of attendees is limited. Pls. register by email to admin@edcf.net \nThe European Digital Cinema Forum (EDCF) is once again hosting its long standing and much anticipated EDCF Global Cinema Seminar at IBC. As cinema has almost fully recovered from the pandemic closures\, change has been forced upon an industry that was embracing investment and premium technologies. The Seminar will address the key issues facing the industry in 2023 and beyond\, such as creative Solutions to supply chain issues\, the challenge of sustainability in the film and cinema sectors\, HDR in cinema\, broadening out and delivery of content supply and issues around cybersecurity and content as well as newest Audio developments. If you want to tap into the industry’s latest thoughts\, please join us in Amsterdam. \nHosted by the EDCF and including a wide range of high-level Speakers the Session will be chaired by Julian Pinn – EDCF Vice President. \nAttendance is free of charge but registration is required by email to admin@edcf.net. \nProgram \nModerator: Julain Pinn – Vice President EDCF\nWelcome greeting: Cathy Huis in ‘t veld‑Esser – President EDCF \n\nUpdate on Cinema business development in Europe\nDavid Hancock – Omdia\n\n\nReport on problem resolution workshop at Cine Europe 2023 and follow up\nCathy Huis in ‘t veld-Esser – Gofilex\n\n\nAn industry converting to laser\, postproduction cannot stay behind\nTom Bert – Barco\n\n\nDCI has now standardized HDR for cinema\, what does it mean for content creators and postproduction”\nJean-Philippe Jaquemin – Barco\n\n\nAI-based subtitle generation and translation in cloud-based workflows\nPhilipp Eibl – Fraunhofer IIS\n\n\nThe future of the cinema theatres: to become part of a video streaming platform\nOleg Berezin – Nevafilm\n\n\nCurrent state of Streaming and what we’re seeing in the market related to cinema (tbc)\nJessica Carlin – Pickaxe Foundry\n\n\nSustainability in film and cinema\nDavid Hancock – Omdia\n\n\nWhy do we need data for a successful sustainability strategy?\nCedric Lejeune – Holli\n\n\nGreen deal and right to repair affect both parts of the industry.\nRadoslav Markov – Bulgarian academy of science
URL:https://edcf.net/edcf-event/edcf-seminar-at-ibc-2023/
LOCATION:RAI Amsterdam – Room E105\, Netherlands
ORGANIZER;CN="J%C3%BCrgen Burghardt":MAILTO:admin@edcf.net
END:VEVENT
END:VCALENDAR